BEGIN:VCALENDAR
VERSION:2.0
CALSCALE:GREGORIAN
PRODID:-//Diputació de Barcelona//DibaCMS//EN
BEGIN:VEVENT
UID:14137
DTSTAMP:20260423T215938
DTSTART:20240716T173000
DTEND:20240716T193000
SUMMARY:Taller de cuina jove - granitzats naturals 
LOCATION:C/Castelló de la Plana, 11 08186   Lliçà d'Amunt
METHOD:PUBLISH
X-WR-CALNAME:ajuntament@llicamunt.cat
X-WR-TIMEZONE:Europe/Madrid
DESCRIPTION:
URI:https://www.llicamunt.cat/actualitat/agenda/taller-de-cuina-jove-granitzats-naturals-.html
CLASS:PUBLIC
END:VEVENT
END:VCALENDAR
