BEGIN:VCALENDAR
VERSION:2.0
CALSCALE:GREGORIAN
PRODID:-//Diputació de Barcelona//DibaCMS//EN
BEGIN:VEVENT
UID:14140
DTSTAMP:20260423T191844
DTSTART:20240722T173000
DTEND:20240722T193000
SUMMARY:Escape room de taula
LOCATION:C/Castelló de la Plana, 11 08186   Lliçà d'Amunt
METHOD:PUBLISH
X-WR-CALNAME:ajuntament@llicamunt.cat
X-WR-TIMEZONE:Europe/Madrid
DESCRIPTION:
URI:https://www.llicamunt.cat/actualitat/agenda/escape-room-de-taula.html
CLASS:PUBLIC
END:VEVENT
END:VCALENDAR
