BEGIN:VCALENDAR
VERSION:2.0
CALSCALE:GREGORIAN
PRODID:-//Diputació de Barcelona//DibaCMS//EN
BEGIN:VEVENT
UID:14153
DTSTAMP:20260423T204319
DTSTART:20240718T160000
DTEND:20240718T190000
SUMMARY:Jornada "Parlem de càncer"
LOCATION:Carretera de Palaudàries, 88 08186 Lliçà d'Amunt
METHOD:PUBLISH
X-WR-CALNAME:ajuntament@llicamunt.cat
X-WR-TIMEZONE:Europe/Madrid
DESCRIPTION:
URI:https://www.llicamunt.cat/actualitat/agenda/jornada-parlem-de-cancer.html
CLASS:PUBLIC
END:VEVENT
END:VCALENDAR
