BEGIN:VCALENDAR
VERSION:2.0
CALSCALE:GREGORIAN
PRODID:-//Diputació de Barcelona//DibaCMS//EN
BEGIN:VEVENT
UID:14155
DTSTAMP:20260424T024444
DTSTART:20240719T190000
DTEND:20240719T210000
SUMMARY:Conversa amb l'escriptora Amàlia Bosch 
LOCATION:c. de l'Aliança, 17 08186 Lliçà d'Amunt
METHOD:PUBLISH
X-WR-CALNAME:ajuntament@llicamunt.cat
X-WR-TIMEZONE:Europe/Madrid
DESCRIPTION:
URI:https://www.llicamunt.cat/actualitat/agenda/conversa-amb-lescriptora-amalia-bosch-.html
CLASS:PUBLIC
END:VEVENT
END:VCALENDAR
