BEGIN:VCALENDAR
VERSION:2.0
CALSCALE:GREGORIAN
PRODID:-//Diputació de Barcelona//DibaCMS//EN
BEGIN:VEVENT
UID:14175
DTSTAMP:20260423T191650
DTSTART:20240831T170000
DTEND:20240901T170000
SUMMARY:XLIV edició de les 24 Hores Internacionals de Resistència en Ciclomotors de La Vall del Tenes
LOCATION:Circuit de Can Montcau 
METHOD:PUBLISH
X-WR-CALNAME:ajuntament@llicamunt.cat
X-WR-TIMEZONE:Europe/Madrid
DESCRIPTION:
URI:https://www.llicamunt.cat/actualitat/agenda/xliv-edicio-de-les-24-hores.html
CLASS:PUBLIC
END:VEVENT
END:VCALENDAR
