BEGIN:VCALENDAR
VERSION:2.0
CALSCALE:GREGORIAN
PRODID:-//Diputació de Barcelona//DibaCMS//EN
BEGIN:VEVENT
UID:14176
DTSTAMP:20260424T000845
DTSTART:20240830T193000
DTEND:20240830T223000
SUMMARY:Entrenaments de la XLIV edició de les 24 Hores
LOCATION:Circuit de Can Montcau 
METHOD:PUBLISH
X-WR-CALNAME:ajuntament@llicamunt.cat
X-WR-TIMEZONE:Europe/Madrid
DESCRIPTION:
URI:https://www.llicamunt.cat/actualitat/agenda/entrenaments-de-la-xliv-edicio-de-les-24-hores.html
CLASS:PUBLIC
END:VEVENT
END:VCALENDAR
