BEGIN:VCALENDAR
VERSION:2.0
CALSCALE:GREGORIAN
PRODID:-//Diputació de Barcelona//DibaCMS//EN
BEGIN:VEVENT
UID:14182
DTSTAMP:20260423T225551
DTSTART:20240903T000000
DTEND:20240903T235900
SUMMARY:Agenda FM - Dimarts 3 de setembre
LOCATION:
METHOD:PUBLISH
X-WR-CALNAME:ajuntament@llicamunt.cat
X-WR-TIMEZONE:Europe/Madrid
DESCRIPTION:
URI:https://www.llicamunt.cat/actualitat/agenda/agenda-fm-dimarts-3-de-setembre.html
CLASS:PUBLIC
END:VEVENT
END:VCALENDAR
