BEGIN:VCALENDAR
VERSION:2.0
CALSCALE:GREGORIAN
PRODID:-//Diputació de Barcelona//DibaCMS//EN
BEGIN:VEVENT
UID:14183
DTSTAMP:20260423T180110
DTSTART:20240904T000000
DTEND:20240904T235900
SUMMARY: Agenda FM - Dimecres 4 de setembre 
LOCATION:
METHOD:PUBLISH
X-WR-CALNAME:ajuntament@llicamunt.cat
X-WR-TIMEZONE:Europe/Madrid
DESCRIPTION:
URI:https://www.llicamunt.cat/actualitat/agenda/-agenda-fm-dimecres-4-de-setembre-.html
CLASS:PUBLIC
END:VEVENT
END:VCALENDAR
