BEGIN:VCALENDAR
VERSION:2.0
CALSCALE:GREGORIAN
PRODID:-//Diputació de Barcelona//DibaCMS//EN
BEGIN:VEVENT
UID:14185
DTSTAMP:20260424T014309
DTSTART:20240906T000000
DTEND:20240906T235900
SUMMARY:Agenda FM - Divendres 6 de setembre 
LOCATION:
METHOD:PUBLISH
X-WR-CALNAME:ajuntament@llicamunt.cat
X-WR-TIMEZONE:Europe/Madrid
DESCRIPTION:
URI:https://www.llicamunt.cat/actualitat/agenda/agenda-fm-divendres-6-de-setembre-.html
CLASS:PUBLIC
END:VEVENT
END:VCALENDAR
