BEGIN:VCALENDAR
VERSION:2.0
CALSCALE:GREGORIAN
PRODID:-//Diputació de Barcelona//DibaCMS//EN
BEGIN:VEVENT
UID:14187
DTSTAMP:20260423T220149
DTSTART:20240908T000000
DTEND:20240908T235900
SUMMARY:Agenda FM - Diumenge 8 de setembre 
LOCATION:
METHOD:PUBLISH
X-WR-CALNAME:ajuntament@llicamunt.cat
X-WR-TIMEZONE:Europe/Madrid
DESCRIPTION:
URI:https://www.llicamunt.cat/actualitat/agenda/agenda-fm-diumenge-8-de-setembre-.html
CLASS:PUBLIC
END:VEVENT
END:VCALENDAR
