BEGIN:VCALENDAR
VERSION:2.0
CALSCALE:GREGORIAN
PRODID:-//Diputació de Barcelona//DibaCMS//EN
BEGIN:VEVENT
UID:14192
DTSTAMP:20260423T163557
DTSTART:20240902T100000
DTEND:20240902T200000
SUMMARY:Per Festa Major, vine a donar sang 
LOCATION:c. de Castelló de la Plana, 11 08186   Lliçà d'Amunt
METHOD:PUBLISH
X-WR-CALNAME:ajuntament@llicamunt.cat
X-WR-TIMEZONE:Europe/Madrid
DESCRIPTION:
URI:https://www.llicamunt.cat/actualitat/agenda/14192-per-festa-major-vine-a-donar-sang-.html
CLASS:PUBLIC
END:VEVENT
END:VCALENDAR
