BEGIN:VCALENDAR
VERSION:2.0
CALSCALE:GREGORIAN
PRODID:-//Diputació de Barcelona//DibaCMS//EN
BEGIN:VEVENT
UID:14204
DTSTAMP:20260423T225649
DTSTART:20240902T000000
DTEND:20241203T000000
SUMMARY:Curs ACTIC nivell mitjà - Dimarts 
LOCATION:c. de Castelló de la Plana, 11 08186   Lliçà d'Amunt
METHOD:PUBLISH
X-WR-CALNAME:ajuntament@llicamunt.cat
X-WR-TIMEZONE:Europe/Madrid
DESCRIPTION:
URI:https://www.llicamunt.cat/actualitat/agenda/curs-actic-nivell-mitja-dimarts-.html
CLASS:PUBLIC
END:VEVENT
END:VCALENDAR
