BEGIN:VCALENDAR
VERSION:2.0
CALSCALE:GREGORIAN
PRODID:-//Diputació de Barcelona//DibaCMS//EN
BEGIN:VEVENT
UID:14213
DTSTAMP:20260423T231837
DTSTART:20240910T173000
DTEND:20240910T200000
SUMMARY:Conte "La Diada, 11 de setembre de 1714. Escudellers, som-hi!"
LOCATION:c. de Castelló de la Plana, 11 08186   Lliçà d'Amunt
METHOD:PUBLISH
X-WR-CALNAME:ajuntament@llicamunt.cat
X-WR-TIMEZONE:Europe/Madrid
DESCRIPTION:
URI:https://www.llicamunt.cat/actualitat/agenda/conte-la-diada-11-de-setembre-de-1714-escudellers-som-hi.html
CLASS:PUBLIC
END:VEVENT
END:VCALENDAR
