BEGIN:VCALENDAR
VERSION:2.0
CALSCALE:GREGORIAN
PRODID:-//Diputació de Barcelona//DibaCMS//EN
BEGIN:VEVENT
UID:14220
DTSTAMP:20260424T053922
DTSTART:20240924T070000
DTEND:20240924T140000
SUMMARY:Anem a la ràdio: Programa especial "El Matí" de Catalunya Ràdio
LOCATION:Sortida des de l'INS Lliçà 
METHOD:PUBLISH
X-WR-CALNAME:ajuntament@llicamunt.cat
X-WR-TIMEZONE:Europe/Madrid
DESCRIPTION:
URI:https://www.llicamunt.cat/actualitat/agenda/anem-a-la-radio-programa-especial-el-mati-de-catalunya-radio.html
CLASS:PUBLIC
END:VEVENT
END:VCALENDAR
