BEGIN:VCALENDAR
VERSION:2.0
CALSCALE:GREGORIAN
PRODID:-//Diputació de Barcelona//DibaCMS//EN
BEGIN:VEVENT
UID:14225
DTSTAMP:20260424T012513
DTSTART:20240921T110000
DTEND:20240921T130000
SUMMARY:Niu de paraules "El Jardí menut"
LOCATION:c. de Castelló de la Plana, 11 08186   Lliçà d'Amunt
METHOD:PUBLISH
X-WR-CALNAME:ajuntament@llicamunt.cat
X-WR-TIMEZONE:Europe/Madrid
DESCRIPTION:
URI:https://www.llicamunt.cat/actualitat/agenda/niu-de-paraules-el-jardi-menut.html
CLASS:PUBLIC
END:VEVENT
END:VCALENDAR
