BEGIN:VCALENDAR
VERSION:2.0
CALSCALE:GREGORIAN
PRODID:-//Diputació de Barcelona//DibaCMS//EN
BEGIN:VEVENT
UID:14226
DTSTAMP:20260424T052351
DTSTART:20240923T173000
DTEND:20240923T193000
SUMMARY:Tarda de jocs de taula - "El código secreto"
LOCATION:C/Castelló de la Plana, 11 08186   Lliçà d'Amunt
METHOD:PUBLISH
X-WR-CALNAME:ajuntament@llicamunt.cat
X-WR-TIMEZONE:Europe/Madrid
DESCRIPTION:
URI:https://www.llicamunt.cat/actualitat/agenda/tarda-de-jocs-de-taula-el-codigo-secreto.html
CLASS:PUBLIC
END:VEVENT
END:VCALENDAR
