BEGIN:VCALENDAR
VERSION:2.0
CALSCALE:GREGORIAN
PRODID:-//Diputació de Barcelona//DibaCMS//EN
BEGIN:VEVENT
UID:14228
DTSTAMP:20260424T051418
DTSTART:20240926T180000
DTEND:20240926T200000
SUMMARY:Presentació del llibre: "De la tristesa a la tendresa"
LOCATION:c. de Castelló de la Plana, 11 08186   Lliçà d'Amunt
METHOD:PUBLISH
X-WR-CALNAME:ajuntament@llicamunt.cat
X-WR-TIMEZONE:Europe/Madrid
DESCRIPTION:
URI:https://www.llicamunt.cat/actualitat/agenda/presentacio-del-llibre-de-la-tristesa-a-la-tendresa.html
CLASS:PUBLIC
END:VEVENT
END:VCALENDAR
