BEGIN:VCALENDAR
VERSION:2.0
CALSCALE:GREGORIAN
PRODID:-//Diputació de Barcelona//DibaCMS//EN
BEGIN:VEVENT
UID:14246
DTSTAMP:20260424T025051
DTSTART:20241021T173000
DTEND:20241021T190000
SUMMARY:Xerrada educativa "Acompanyament a la sexualitat"
LOCATION:En línia 
METHOD:PUBLISH
X-WR-CALNAME:ajuntament@llicamunt.cat
X-WR-TIMEZONE:Europe/Madrid
DESCRIPTION:
URI:https://www.llicamunt.cat/actualitat/agenda/xerrada-educativa-acompanyament-a-la-sexualitat.html
CLASS:PUBLIC
END:VEVENT
END:VCALENDAR
