BEGIN:VCALENDAR
VERSION:2.0
CALSCALE:GREGORIAN
PRODID:-//Diputació de Barcelona//DibaCMS//EN
BEGIN:VEVENT
UID:14247
DTSTAMP:20260424T051510
DTSTART:20241030T170000
DTEND:20241104T200000
SUMMARY:Donar sang no fa por! Per la Castanyada, vine a donar sang!
LOCATION:c. del Segre, 65 (Palaudàries) 08186   Lliçà d'Amunt
METHOD:PUBLISH
X-WR-CALNAME:ajuntament@llicamunt.cat
X-WR-TIMEZONE:Europe/Madrid
DESCRIPTION:
URI:https://www.llicamunt.cat/actualitat/agenda/donar-sang-no-fa-por-per-la-castanyada-vine-a-donar-sang.html
CLASS:PUBLIC
END:VEVENT
END:VCALENDAR
