BEGIN:VCALENDAR
VERSION:2.0
CALSCALE:GREGORIAN
PRODID:-//Diputació de Barcelona//DibaCMS//EN
BEGIN:VEVENT
UID:14257
DTSTAMP:20260424T001425
DTSTART:20241017T000000
DTEND:20241126T000000
SUMMARY:Formació del SEOVT per a empreses i persones emprenedores
LOCATION:
METHOD:PUBLISH
X-WR-CALNAME:ajuntament@llicamunt.cat
X-WR-TIMEZONE:Europe/Madrid
DESCRIPTION:
URI:https://www.llicamunt.cat/actualitat/agenda/formacio-del-seovt-per-a-empreses-i-persones-emprenedores.html
CLASS:PUBLIC
END:VEVENT
END:VCALENDAR
