BEGIN:VCALENDAR
VERSION:2.0
CALSCALE:GREGORIAN
PRODID:-//Diputació de Barcelona//DibaCMS//EN
BEGIN:VEVENT
UID:14258
DTSTAMP:20260424T011829
DTSTART:20241019T160000
DTEND:20241116T000000
SUMMARY:Nova edició del cicle Cinema Infantil en Català (CINC) a Granollers i a Sant Celoni 
LOCATION:Ocine Granollers i Ocine Sant Celoni 
METHOD:PUBLISH
X-WR-CALNAME:ajuntament@llicamunt.cat
X-WR-TIMEZONE:Europe/Madrid
DESCRIPTION:
URI:https://www.llicamunt.cat/actualitat/agenda/nova-edicio-del-cicle-cinema-infantil-en-catala-cinc-a-granollers-i-a-sant-celoni-.html
CLASS:PUBLIC
END:VEVENT
END:VCALENDAR
