BEGIN:VCALENDAR
VERSION:2.0
CALSCALE:GREGORIAN
PRODID:-//Diputació de Barcelona//DibaCMS//EN
BEGIN:VEVENT
UID:14262
DTSTAMP:20260424T025118
DTSTART:20241031T190000
DTEND:20241102T230000
SUMMARY:Túnel del terror del Club de Tennis Ca l'Artigues
LOCATION:Club de Tennis Ca l'Artigues 
METHOD:PUBLISH
X-WR-CALNAME:ajuntament@llicamunt.cat
X-WR-TIMEZONE:Europe/Madrid
DESCRIPTION:
URI:https://www.llicamunt.cat/actualitat/agenda/tunel-del-terror-del-club-de-tennis-ca-lartigues.html
CLASS:PUBLIC
END:VEVENT
END:VCALENDAR
