BEGIN:VCALENDAR
VERSION:2.0
CALSCALE:GREGORIAN
PRODID:-//Diputació de Barcelona//DibaCMS//EN
BEGIN:VEVENT
UID:14263
DTSTAMP:20260424T062157
DTSTART:20241109T170000
DTEND:20241109T230000
SUMMARY:Castanyada a la Sagrera
LOCATION:Barri de la Sagrera 
METHOD:PUBLISH
X-WR-CALNAME:ajuntament@llicamunt.cat
X-WR-TIMEZONE:Europe/Madrid
DESCRIPTION:
URI:https://www.llicamunt.cat/actualitat/agenda/14263-castanyada-a-la-sagrera.html
CLASS:PUBLIC
END:VEVENT
END:VCALENDAR
