BEGIN:VCALENDAR
VERSION:2.0
CALSCALE:GREGORIAN
PRODID:-//Diputació de Barcelona//DibaCMS//EN
BEGIN:VEVENT
UID:14271
DTSTAMP:20260424T063518
DTSTART:20241022T173000
DTEND:20241022T200000
SUMMARY:Taller creatiu: Paisagtes de tardor
LOCATION:c. de Castelló de la Plana, 11 08186   Lliçà d'Amunt
METHOD:PUBLISH
X-WR-CALNAME:ajuntament@llicamunt.cat
X-WR-TIMEZONE:Europe/Madrid
DESCRIPTION:
URI:https://www.llicamunt.cat/actualitat/agenda/taller-creatiu-paisagtes-de-tardor.html
CLASS:PUBLIC
END:VEVENT
END:VCALENDAR
