BEGIN:VCALENDAR
VERSION:2.0
CALSCALE:GREGORIAN
PRODID:-//Diputació de Barcelona//DibaCMS//EN
BEGIN:VEVENT
UID:14272
DTSTAMP:20260424T074909
DTSTART:20241022T173000
DTEND:20241022T193000
SUMMARY:Taller de cuina jove - mòmies monstruoses
LOCATION:C/Castelló de la Plana, 11 08186   Lliçà d'Amunt
METHOD:PUBLISH
X-WR-CALNAME:ajuntament@llicamunt.cat
X-WR-TIMEZONE:Europe/Madrid
DESCRIPTION:
URI:https://www.llicamunt.cat/actualitat/agenda/taller-de-cuina-jove-momies-monstruoses.html
CLASS:PUBLIC
END:VEVENT
END:VCALENDAR
