BEGIN:VCALENDAR
VERSION:2.0
CALSCALE:GREGORIAN
PRODID:-//Diputació de Barcelona//DibaCMS//EN
BEGIN:VEVENT
UID:14278
DTSTAMP:20260424T063503
DTSTART:20241030T170000
DTEND:20241030T193000
SUMMARY:Concurs de carbasses de Halloween 
LOCATION:C/Castelló de la Plana, 11 08186   Lliçà d'Amunt
METHOD:PUBLISH
X-WR-CALNAME:ajuntament@llicamunt.cat
X-WR-TIMEZONE:Europe/Madrid
DESCRIPTION:
URI:https://www.llicamunt.cat/actualitat/agenda/concurs-de-carbasses-de-halloween-.html
CLASS:PUBLIC
END:VEVENT
END:VCALENDAR
