BEGIN:VCALENDAR
VERSION:2.0
CALSCALE:GREGORIAN
PRODID:-//Diputació de Barcelona//DibaCMS//EN
BEGIN:VEVENT
UID:14286
DTSTAMP:20260424T040835
DTSTART:20241012T100000
DTEND:20241012T120000
SUMMARY:Inauguració pista de pàdel municipal
LOCATION:c. de  l'Alzina, 29 08186   Lliçà d'Amunt
METHOD:PUBLISH
X-WR-CALNAME:ajuntament@llicamunt.cat
X-WR-TIMEZONE:Europe/Madrid
DESCRIPTION:
URI:https://www.llicamunt.cat/actualitat/agenda/inauguracio-pista-de-padel-municipal.html
CLASS:PUBLIC
END:VEVENT
END:VCALENDAR
