BEGIN:VCALENDAR
VERSION:2.0
CALSCALE:GREGORIAN
PRODID:-//Diputació de Barcelona//DibaCMS//EN
BEGIN:VEVENT
UID:14299
DTSTAMP:20260424T062656
DTSTART:20241031T235900
DTEND:20241101T040000
SUMMARY:Festa de la Castanyada a l'Ateneu L'Aliança
LOCATION:c. de l'Aliança, 17 08186 Lliçà d'Amunt
METHOD:PUBLISH
X-WR-CALNAME:ajuntament@llicamunt.cat
X-WR-TIMEZONE:Europe/Madrid
DESCRIPTION:
URI:https://www.llicamunt.cat/actualitat/agenda/festa-de-la-castanyada-a-lateneu-lalianca.html
CLASS:PUBLIC
END:VEVENT
END:VCALENDAR
