BEGIN:VCALENDAR
VERSION:2.0
CALSCALE:GREGORIAN
PRODID:-//Diputació de Barcelona//DibaCMS//EN
BEGIN:VEVENT
UID:14301
DTSTAMP:20260424T014207
DTSTART:20241011T173000
DTEND:20241011T200000
SUMMARY:Dia de la nena: Històries que Inspiren i Empoderen 
LOCATION:c. de Castelló de la Plana, 11 08186   Lliçà d'Amunt
METHOD:PUBLISH
X-WR-CALNAME:ajuntament@llicamunt.cat
X-WR-TIMEZONE:Europe/Madrid
DESCRIPTION:
URI:https://www.llicamunt.cat/actualitat/agenda/dia-de-la-nena-histories-que-inspiren-i-empoderen-.html
CLASS:PUBLIC
END:VEVENT
END:VCALENDAR
