BEGIN:VCALENDAR
VERSION:2.0
CALSCALE:GREGORIAN
PRODID:-//Diputació de Barcelona//DibaCMS//EN
BEGIN:VEVENT
UID:14304
DTSTAMP:20260424T041030
DTSTART:20241025T220000
DTEND:20241026T030000
SUMMARY:Lliksound amb FALCIOT, STATU QUONIAM, MX MANTRIX i AMAT RIAL B
LOCATION:c. de l'Aliança, 17 08186 Lliçà d'Amunt
METHOD:PUBLISH
X-WR-CALNAME:ajuntament@llicamunt.cat
X-WR-TIMEZONE:Europe/Madrid
DESCRIPTION:
URI:https://www.llicamunt.cat/actualitat/agenda/lliksound-amb-falciot-statu-quoniam-mx-mantrix-i-amat-rial-b.html
CLASS:PUBLIC
END:VEVENT
END:VCALENDAR
