BEGIN:VCALENDAR
VERSION:2.0
CALSCALE:GREGORIAN
PRODID:-//Diputació de Barcelona//DibaCMS//EN
BEGIN:VEVENT
UID:14305
DTSTAMP:20260424T001503
DTSTART:20241018T190000
DTEND:20241018T203000
SUMMARY:Xerrada: "Cultura popular, carrer i conflicte"
LOCATION:c. de l'Aliança, 17 08186 Lliçà d'Amunt
METHOD:PUBLISH
X-WR-CALNAME:ajuntament@llicamunt.cat
X-WR-TIMEZONE:Europe/Madrid
DESCRIPTION:
URI:https://www.llicamunt.cat/actualitat/agenda/xerrada-cultura-popular-carrer-i-conflicte.html
CLASS:PUBLIC
END:VEVENT
END:VCALENDAR
