BEGIN:VCALENDAR
VERSION:2.0
CALSCALE:GREGORIAN
PRODID:-//Diputació de Barcelona//DibaCMS//EN
BEGIN:VEVENT
UID:14306
DTSTAMP:20260424T064816
DTSTART:20241031T000000
DTEND:20241102T000000
SUMMARY:Túnel del terror - Parc de la Mandarina
LOCATION:C.  Felip Pedrell - Zona Esportiva 08186   Lliçà d'Amunt
METHOD:PUBLISH
X-WR-CALNAME:ajuntament@llicamunt.cat
X-WR-TIMEZONE:Europe/Madrid
DESCRIPTION:
URI:https://www.llicamunt.cat/actualitat/agenda/tunel-del-terror-parc-de-la-mandarina.html
CLASS:PUBLIC
END:VEVENT
END:VCALENDAR
