BEGIN:VCALENDAR
VERSION:2.0
CALSCALE:GREGORIAN
PRODID:-//Diputació de Barcelona//DibaCMS//EN
BEGIN:VEVENT
UID:14318
DTSTAMP:20260424T075751
DTSTART:20241109T180000
DTEND:20241110T010000
SUMMARY:17a Nit de Terror
LOCATION:C. de  Folch i Torres, 104-116 08186   Lliçà d'Amunt
METHOD:PUBLISH
X-WR-CALNAME:ajuntament@llicamunt.cat
X-WR-TIMEZONE:Europe/Madrid
DESCRIPTION:
URI:https://www.llicamunt.cat/actualitat/agenda/17a-nit-de-terror.html
CLASS:PUBLIC
END:VEVENT
END:VCALENDAR
