BEGIN:VCALENDAR
VERSION:2.0
CALSCALE:GREGORIAN
PRODID:-//Diputació de Barcelona//DibaCMS//EN
BEGIN:VEVENT
UID:14321
DTSTAMP:20260424T030629
DTSTART:20241024T184500
DTEND:20241024T190000
SUMMARY:Sessió extraordinària pública de la Junta de Govern Local  
LOCATION:c. de Folch i Torres, 102 08186   Lliçà d'Amunt
METHOD:PUBLISH
X-WR-CALNAME:ajuntament@llicamunt.cat
X-WR-TIMEZONE:Europe/Madrid
DESCRIPTION:
URI:https://www.llicamunt.cat/actualitat/agenda/14321-sessio-extraordinaria-publica-de-la-junta-de-govern-local-.html
CLASS:PUBLIC
END:VEVENT
END:VCALENDAR
