BEGIN:VCALENDAR
VERSION:2.0
CALSCALE:GREGORIAN
PRODID:-//Diputació de Barcelona//DibaCMS//EN
BEGIN:VEVENT
UID:14325
DTSTAMP:20260424T074806
DTSTART:20241108T171500
DTEND:20241129T191500
SUMMARY:Cicle de tallers sobre paternitat positiva
LOCATION:c. de la Fàbrica, s/n 08186 Lliçà d'Amunt
METHOD:PUBLISH
X-WR-CALNAME:ajuntament@llicamunt.cat
X-WR-TIMEZONE:Europe/Madrid
DESCRIPTION:
URI:https://www.llicamunt.cat/actualitat/agenda/cicle-de-tallers-sobre-paternitat-positiva.html
CLASS:PUBLIC
END:VEVENT
END:VCALENDAR
