BEGIN:VCALENDAR
VERSION:2.0
CALSCALE:GREGORIAN
PRODID:-//Diputació de Barcelona//DibaCMS//EN
BEGIN:VEVENT
UID:14334
DTSTAMP:20260424T025846
DTSTART:20241104T000000
DTEND:20241130T000000
SUMMARY:Exposició de dibuixos del projecte "Conte viu"
LOCATION:c. de Castelló de la Plana, 11 08186   Lliçà d'Amunt
METHOD:PUBLISH
X-WR-CALNAME:ajuntament@llicamunt.cat
X-WR-TIMEZONE:Europe/Madrid
DESCRIPTION:
URI:https://www.llicamunt.cat/actualitat/agenda/exposicio-de-dibuixos-del-projecte-conte-viu.html
CLASS:PUBLIC
END:VEVENT
END:VCALENDAR
