BEGIN:VCALENDAR
VERSION:2.0
CALSCALE:GREGORIAN
PRODID:-//Diputació de Barcelona//DibaCMS//EN
BEGIN:VEVENT
UID:14335
DTSTAMP:20260424T040739
DTSTART:20241120T190000
DTEND:20241202T203000
SUMMARY:Dona i Esport: "Foment de la Salut a través de l'activitat física per a la dona"
LOCATION:c. de Castelló de la Plana, 11 08186   Lliçà d'Amunt
METHOD:PUBLISH
X-WR-CALNAME:ajuntament@llicamunt.cat
X-WR-TIMEZONE:Europe/Madrid
DESCRIPTION:
URI:https://www.llicamunt.cat/actualitat/agenda/dona-i-esport-foment-de-la-salut-a-traves-de-lactivitat-fisica-per-a-la-dona.html
CLASS:PUBLIC
END:VEVENT
END:VCALENDAR
