BEGIN:VCALENDAR
VERSION:2.0
CALSCALE:GREGORIAN
PRODID:-//Diputació de Barcelona//DibaCMS//EN
BEGIN:VEVENT
UID:14336
DTSTAMP:20260424T070649
DTSTART:20241118T190000
DTEND:20241118T203000
SUMMARY:Dona i Esport: Xerrada "Violències sexuals i esport segur" dirigida a entitats esportives
LOCATION:c. de Castelló de la Plana, 11 08186   Lliçà d'Amunt
METHOD:PUBLISH
X-WR-CALNAME:ajuntament@llicamunt.cat
X-WR-TIMEZONE:Europe/Madrid
DESCRIPTION:
URI:https://www.llicamunt.cat/actualitat/agenda/dona-i-esport-xerrada-violencies-sexuals-i-esport-segur-dirigida-a-entitats-esportives.html
CLASS:PUBLIC
END:VEVENT
END:VCALENDAR
