BEGIN:VCALENDAR
VERSION:2.0
CALSCALE:GREGORIAN
PRODID:-//Diputació de Barcelona//DibaCMS//EN
BEGIN:VEVENT
UID:14338
DTSTAMP:20260424T075306
DTSTART:20241109T110000
DTEND:20241109T130000
SUMMARY:"Pim, pam, pomelo!"
LOCATION:c. de Castelló de la Plana, 11 08186   Lliçà d'Amunt
METHOD:PUBLISH
X-WR-CALNAME:ajuntament@llicamunt.cat
X-WR-TIMEZONE:Europe/Madrid
DESCRIPTION:
URI:https://www.llicamunt.cat/actualitat/agenda/pim-pam-pomelo.html
CLASS:PUBLIC
END:VEVENT
END:VCALENDAR
