BEGIN:VCALENDAR
VERSION:2.0
CALSCALE:GREGORIAN
PRODID:-//Diputació de Barcelona//DibaCMS//EN
BEGIN:VEVENT
UID:14355
DTSTAMP:20260424T063403
DTSTART:20241111T173000
DTEND:20241111T193000
SUMMARY:Taller: mira, toca i descobreix els animals
LOCATION:c. de Castelló de la Plana, 11 08186   Lliçà d'Amunt
METHOD:PUBLISH
X-WR-CALNAME:ajuntament@llicamunt.cat
X-WR-TIMEZONE:Europe/Madrid
DESCRIPTION:
URI:https://www.llicamunt.cat/actualitat/agenda/taller-mira-toca-i-descobreix-els-animals.html
CLASS:PUBLIC
END:VEVENT
END:VCALENDAR
