BEGIN:VCALENDAR
VERSION:2.0
CALSCALE:GREGORIAN
PRODID:-//Diputació de Barcelona//DibaCMS//EN
BEGIN:VEVENT
UID:14356
DTSTAMP:20260424T074627
DTSTART:20241112T173000
DTEND:20241112T193000
SUMMARY:Club de les dents de lleó  
LOCATION:c. de Castelló de la Plana, 11 08186   Lliçà d'Amunt
METHOD:PUBLISH
X-WR-CALNAME:ajuntament@llicamunt.cat
X-WR-TIMEZONE:Europe/Madrid
DESCRIPTION:
URI:https://www.llicamunt.cat/actualitat/agenda/14356-club-de-les-dents-de-lleo-.html
CLASS:PUBLIC
END:VEVENT
END:VCALENDAR
