BEGIN:VCALENDAR
VERSION:2.0
CALSCALE:GREGORIAN
PRODID:-//Diputació de Barcelona//DibaCMS//EN
BEGIN:VEVENT
UID:14357
DTSTAMP:20260424T063439
DTSTART:20241113T173000
DTEND:20241113T193000
SUMMARY:Tardes creatives - "Slime"
LOCATION:C/Castelló de la Plana, 11 08186   Lliçà d'Amunt
METHOD:PUBLISH
X-WR-CALNAME:ajuntament@llicamunt.cat
X-WR-TIMEZONE:Europe/Madrid
DESCRIPTION:
URI:https://www.llicamunt.cat/actualitat/agenda/tardes-creatives-slime.html
CLASS:PUBLIC
END:VEVENT
END:VCALENDAR
