BEGIN:VCALENDAR
VERSION:2.0
CALSCALE:GREGORIAN
PRODID:-//Diputació de Barcelona//DibaCMS//EN
BEGIN:VEVENT
UID:14361
DTSTAMP:20260424T063629
DTSTART:20241115T190000
DTEND:20241115T203000
SUMMARY:Xerrada: "La festa vista com a patrimoni"
LOCATION:c. de l'Aliança, 17 08186 Lliçà d'Amunt
METHOD:PUBLISH
X-WR-CALNAME:ajuntament@llicamunt.cat
X-WR-TIMEZONE:Europe/Madrid
DESCRIPTION:
URI:https://www.llicamunt.cat/actualitat/agenda/xerrada-la-festa-vista-com-a-patrimoni.html
CLASS:PUBLIC
END:VEVENT
END:VCALENDAR
