BEGIN:VCALENDAR
VERSION:2.0
CALSCALE:GREGORIAN
PRODID:-//Diputació de Barcelona//DibaCMS//EN
BEGIN:VEVENT
UID:14372
DTSTAMP:20260424T100701
DTSTART:20241130T100000
DTEND:20241201T140000
SUMMARY:Caça el teu Tió 2024
LOCATION:Pinar de la Riera 
METHOD:PUBLISH
X-WR-CALNAME:ajuntament@llicamunt.cat
X-WR-TIMEZONE:Europe/Madrid
DESCRIPTION:
URI:https://www.llicamunt.cat/actualitat/agenda/caca-el-teu-tio-2024.html
CLASS:PUBLIC
END:VEVENT
END:VCALENDAR
