BEGIN:VCALENDAR
VERSION:2.0
CALSCALE:GREGORIAN
PRODID:-//Diputació de Barcelona//DibaCMS//EN
BEGIN:VEVENT
UID:14379
DTSTAMP:20260424T065239
DTSTART:20241211T174500
DTEND:20241211T194500
SUMMARY:Taller de cuina infantil - Fem mini pizzes
LOCATION:c. del Segre, 65 (Palaudàries) 08186   Lliçà d'Amunt
METHOD:PUBLISH
X-WR-CALNAME:ajuntament@llicamunt.cat
X-WR-TIMEZONE:Europe/Madrid
DESCRIPTION:
URI:https://www.llicamunt.cat/actualitat/agenda/taller-de-cuina-infantil-fem-mini-pizzes.html
CLASS:PUBLIC
END:VEVENT
END:VCALENDAR
