BEGIN:VCALENDAR
VERSION:2.0
CALSCALE:GREGORIAN
PRODID:-//Diputació de Barcelona//DibaCMS//EN
BEGIN:VEVENT
UID:14407
DTSTAMP:20260424T052316
DTSTART:20241215T100000
DTEND:20241215T160000
SUMMARY:Degustavolta per la Marató 2024
LOCATION:c. de l'Aliança, 17 08186 Lliçà d'Amunt
METHOD:PUBLISH
X-WR-CALNAME:ajuntament@llicamunt.cat
X-WR-TIMEZONE:Europe/Madrid
DESCRIPTION:
URI:https://www.llicamunt.cat/actualitat/agenda/degustavolta-per-la-marato-2024.html
CLASS:PUBLIC
END:VEVENT
END:VCALENDAR
