BEGIN:VCALENDAR
VERSION:2.0
CALSCALE:GREGORIAN
PRODID:-//Diputació de Barcelona//DibaCMS//EN
BEGIN:VEVENT
UID:14409
DTSTAMP:20260424T105739
DTSTART:20241223T170000
DTEND:20241223T190000
SUMMARY:Cinema de Nadal - Noelle
LOCATION:c. de Castelló de la Plana, 11 08186   Lliçà d'Amunt
METHOD:PUBLISH
X-WR-CALNAME:ajuntament@llicamunt.cat
X-WR-TIMEZONE:Europe/Madrid
DESCRIPTION:
URI:https://www.llicamunt.cat/actualitat/agenda/cinema-de-nadal-noelle.html
CLASS:PUBLIC
END:VEVENT
END:VCALENDAR
