BEGIN:VCALENDAR
VERSION:2.0
CALSCALE:GREGORIAN
PRODID:-//Diputació de Barcelona//DibaCMS//EN
BEGIN:VEVENT
UID:14410
DTSTAMP:20260424T080014
DTSTART:20250102T170000
DTEND:20250103T200000
SUMMARY:Oficina dels Somnis
LOCATION:c. de Castelló de la Plana, 11 08186   Lliçà d'Amunt
METHOD:PUBLISH
X-WR-CALNAME:ajuntament@llicamunt.cat
X-WR-TIMEZONE:Europe/Madrid
DESCRIPTION:
URI:https://www.llicamunt.cat/actualitat/agenda/14410-oficina-dels-somnis.html
CLASS:PUBLIC
END:VEVENT
END:VCALENDAR
