BEGIN:VCALENDAR
VERSION:2.0
CALSCALE:GREGORIAN
PRODID:-//Diputació de Barcelona//DibaCMS//EN
BEGIN:VEVENT
UID:14411
DTSTAMP:20260424T143451
DTSTART:20250107T180000
DTEND:20250107T200000
SUMMARY:Representació teatral "Mamaaá!" - ENTRADES EXHAURIDES
LOCATION:c. de l'Aliança, 17 08186 Lliçà d'Amunt
METHOD:PUBLISH
X-WR-CALNAME:ajuntament@llicamunt.cat
X-WR-TIMEZONE:Europe/Madrid
DESCRIPTION:
URI:https://www.llicamunt.cat/actualitat/agenda/representacio-teatral-mamaaa-entrades-exhaurides.html
CLASS:PUBLIC
END:VEVENT
END:VCALENDAR
