BEGIN:VCALENDAR
VERSION:2.0
CALSCALE:GREGORIAN
PRODID:-//Diputació de Barcelona//DibaCMS//EN
BEGIN:VEVENT
UID:14412
DTSTAMP:20260424T105048
DTSTART:20241216T170000
DTEND:20241216T200000
SUMMARY:Demostració i degustació de receptes nadalenques
LOCATION:Establiment Carnisseria Tarabal (c. d’Anselm Clavé, 68) 
METHOD:PUBLISH
X-WR-CALNAME:ajuntament@llicamunt.cat
X-WR-TIMEZONE:Europe/Madrid
DESCRIPTION:
URI:https://www.llicamunt.cat/actualitat/agenda/demostracio-i-degustacio-de-receptes-nadalenques.html
CLASS:PUBLIC
END:VEVENT
END:VCALENDAR
